BEGIN:VCALENDAR
VERSION:2.0
PRODID:-//Craft Social Yorkshire - ECPv6.15.20//NONSGML v1.0//EN
CALSCALE:GREGORIAN
METHOD:PUBLISH
X-WR-CALNAME:Craft Social Yorkshire
X-ORIGINAL-URL:https://craftsocialyorkshire.com
X-WR-CALDESC:Events for Craft Social Yorkshire
REFRESH-INTERVAL;VALUE=DURATION:PT1H
X-Robots-Tag:noindex
X-PUBLISHED-TTL:PT1H
BEGIN:VTIMEZONE
TZID:Europe/London
BEGIN:DAYLIGHT
TZOFFSETFROM:+0000
TZOFFSETTO:+0100
TZNAME:BST
DTSTART:20250330T010000
END:DAYLIGHT
BEGIN:STANDARD
TZOFFSETFROM:+0100
TZOFFSETTO:+0000
TZNAME:GMT
DTSTART:20251026T010000
END:STANDARD
BEGIN:DAYLIGHT
TZOFFSETFROM:+0000
TZOFFSETTO:+0100
TZNAME:BST
DTSTART:20260329T010000
END:DAYLIGHT
BEGIN:STANDARD
TZOFFSETFROM:+0100
TZOFFSETTO:+0000
TZNAME:GMT
DTSTART:20261025T010000
END:STANDARD
BEGIN:DAYLIGHT
TZOFFSETFROM:+0000
TZOFFSETTO:+0100
TZNAME:BST
DTSTART:20270328T010000
END:DAYLIGHT
BEGIN:STANDARD
TZOFFSETFROM:+0100
TZOFFSETTO:+0000
TZNAME:GMT
DTSTART:20271031T010000
END:STANDARD
END:VTIMEZONE
BEGIN:VEVENT
DTSTART;TZID=Europe/London:20260513T110000
DTEND;TZID=Europe/London:20260513T130000
DTSTAMP:20260421T124239
CREATED:20260409T183039Z
LAST-MODIFIED:20260409T183039Z
UID:3422-1778670000-1778677200@craftsocialyorkshire.com
SUMMARY:Gelli Printing Beginners
DESCRIPTION:Gelli printing is a fun\, hands-on monoprinting technique that uses a soft gel plate to create layered\, textured prints. In this workshop\, you’ll experiment with colours\, patterns and everyday materials to produce unique\, one-of-a-kind artworks. No prior experience needed.
URL:https://craftsocialyorkshire.com/event/gelli-printing-beginners/
LOCATION:Craft Social\, 24a Newmarket Street\, Skipton\, BD23 2JB\, United Kingdom
ATTACH;FMTTYPE=image/jpeg:https://craftsocialyorkshire.com/wp-content/uploads/2026/04/PHOTO-2026-04-09-19-26-03.jpg
ORGANIZER;CN="Craft Social":MAILTO:craftsocialyorkshire@gmail.com
END:VEVENT
BEGIN:VEVENT
DTSTART;TZID=Europe/London:20260515T193000
DTEND;TZID=Europe/London:20260515T220000
DTSTAMP:20260421T124239
CREATED:20260409T183013Z
LAST-MODIFIED:20260409T183455Z
UID:3416-1778873400-1778882400@craftsocialyorkshire.com
SUMMARY:Ladies Night
DESCRIPTION:Choose between a Sip ‘n’ Paint (a large textured canvas) or Sip ‘n’ Decorate (tote bag) craft
URL:https://craftsocialyorkshire.com/event/ladies-night/
LOCATION:Craft Social\, 24a Newmarket Street\, Skipton\, BD23 2JB\, United Kingdom
ATTACH;FMTTYPE=image/jpeg:https://craftsocialyorkshire.com/wp-content/uploads/2026/04/PHOTO-2026-04-09-19-26-03.jpg
ORGANIZER;CN="Craft Social":MAILTO:craftsocialyorkshire@gmail.com
END:VEVENT
BEGIN:VEVENT
DTSTART;TZID=Europe/London:20260620T110000
DTEND;TZID=Europe/London:20260620T120000
DTSTAMP:20260421T124239
CREATED:20260409T182947Z
LAST-MODIFIED:20260409T182947Z
UID:3427-1781953200-1781956800@craftsocialyorkshire.com
SUMMARY:Claw Clips and Lip Gloss Charms
DESCRIPTION:This fun\, creative workshop is perfect for tweens who love to customise and accessorise! Participants will decorate claw clips using colourful decodan techniques and design their own lip gloss charms\, creating cute\, personalised pieces to take home. No prior experience needed.
URL:https://craftsocialyorkshire.com/event/claw-clips-and-lip-gloss-charms/
LOCATION:Craft Social\, 24a Newmarket Street\, Skipton\, BD23 2JB\, United Kingdom
ATTACH;FMTTYPE=image/jpeg:https://craftsocialyorkshire.com/wp-content/uploads/2026/04/PHOTO-2026-04-09-19-26-03.jpg
ORGANIZER;CN="Craft Social":MAILTO:craftsocialyorkshire@gmail.com
END:VEVENT
END:VCALENDAR