BEGIN:VCALENDAR
VERSION:2.0
PRODID:-//Craft Social Yorkshire - ECPv6.15.20//NONSGML v1.0//EN
CALSCALE:GREGORIAN
METHOD:PUBLISH
X-WR-CALNAME:Craft Social Yorkshire
X-ORIGINAL-URL:https://craftsocialyorkshire.com
X-WR-CALDESC:Events for Craft Social Yorkshire
REFRESH-INTERVAL;VALUE=DURATION:PT1H
X-Robots-Tag:noindex
X-PUBLISHED-TTL:PT1H
BEGIN:VTIMEZONE
TZID:Europe/London
BEGIN:DAYLIGHT
TZOFFSETFROM:+0000
TZOFFSETTO:+0100
TZNAME:BST
DTSTART:20240331T010000
END:DAYLIGHT
BEGIN:STANDARD
TZOFFSETFROM:+0100
TZOFFSETTO:+0000
TZNAME:GMT
DTSTART:20241027T010000
END:STANDARD
BEGIN:DAYLIGHT
TZOFFSETFROM:+0000
TZOFFSETTO:+0100
TZNAME:BST
DTSTART:20250330T010000
END:DAYLIGHT
BEGIN:STANDARD
TZOFFSETFROM:+0100
TZOFFSETTO:+0000
TZNAME:GMT
DTSTART:20251026T010000
END:STANDARD
BEGIN:DAYLIGHT
TZOFFSETFROM:+0000
TZOFFSETTO:+0100
TZNAME:BST
DTSTART:20260329T010000
END:DAYLIGHT
BEGIN:STANDARD
TZOFFSETFROM:+0100
TZOFFSETTO:+0000
TZNAME:GMT
DTSTART:20261025T010000
END:STANDARD
END:VTIMEZONE
BEGIN:VEVENT
DTSTART;TZID=Europe/London:20251205T103000
DTEND;TZID=Europe/London:20251205T120000
DTSTAMP:20260421T124541
CREATED:20251014T215028Z
LAST-MODIFIED:20251015T095916Z
UID:3169-1764930600-1764936000@craftsocialyorkshire.com
SUMMARY:Baby Prints Xmas Cards
DESCRIPTION:Capture a precious memory this festive season with our Baby Prints Christmas Card session! Create two personalised cards featuring your little one’s prints\, with all materials provided. A lovely keepsake and perfect for sharing with family and friends.
URL:https://craftsocialyorkshire.com/event/baby-prints-xmas-cards/
LOCATION:Ovino Lounge\, 49-51 High St\, Skipton\, BD23 1DH\, United Kingdom
ATTACH;FMTTYPE=image/png:https://craftsocialyorkshire.com/wp-content/uploads/2025/10/image0.png
ORGANIZER;CN="Craft Social":MAILTO:craftsocialyorkshire@gmail.com
END:VEVENT
BEGIN:VEVENT
DTSTART;TZID=Europe/London:20251129T193000
DTEND;TZID=Europe/London:20251129T213000
DTSTAMP:20260421T124541
CREATED:20250811T191428Z
LAST-MODIFIED:20250910T160332Z
UID:3033-1764444600-1764451800@craftsocialyorkshire.com
SUMMARY:Metal Embossing Xmas Decorations
DESCRIPTION:Fancy trying something a little different this festive season? Join us for a magical evening of metal embossing\, where you’ll design and create your own unique Christmas decorations to take home and treasure (or gift to someone special!). Perfect for beginners\, our expert tutor will guide you step-by-step through the process of shaping\, embossing\, and decorating metal to create shimmering\, one-of-a-kind festive ornaments. \nExpect a relaxed\, festive atmosphere filled with creativity\, sparkle\, and seasonal cheer. \nFeel free to bring your own drinks along to enjoy while you create! We will supply all other materials for the workshop
URL:https://craftsocialyorkshire.com/event/metal-embossing-xmas-decorations/
LOCATION:Puffin Pottery\, 2b Boroughgate\, Otley\, LS21 3AL\, United Kingdom
ATTACH;FMTTYPE=image/jpeg:https://craftsocialyorkshire.com/wp-content/uploads/2025/08/IMG_2524.jpg
ORGANIZER;CN="Craft Social":MAILTO:craftsocialyorkshire@gmail.com
END:VEVENT
BEGIN:VEVENT
DTSTART;TZID=Europe/London:20251124T193000
DTEND;TZID=Europe/London:20251124T210000
DTSTAMP:20260421T124541
CREATED:20251014T215051Z
LAST-MODIFIED:20251014T215532Z
UID:3168-1764012600-1764018000@craftsocialyorkshire.com
SUMMARY:Glass Painting
DESCRIPTION:Sip\, chat\, and get creative at our Glass Painting Evening. Your ticket includes a welcome glass of fizz and two gin glasses to decorate and take home. A relaxed and social night out for anyone who loves a bit of sparkle and style.
URL:https://craftsocialyorkshire.com/event/glass-painting/
LOCATION:Ovino Lounge\, 49-51 High St\, Skipton\, BD23 1DH\, United Kingdom
ATTACH;FMTTYPE=image/jpeg:https://craftsocialyorkshire.com/wp-content/uploads/2025/10/IMG_2129.jpg
ORGANIZER;CN="Craft Social":MAILTO:craftsocialyorkshire@gmail.com
END:VEVENT
BEGIN:VEVENT
DTSTART;TZID=Europe/London:20251122T140000
DTEND;TZID=Europe/London:20251122T160000
DTSTAMP:20260421T124541
CREATED:20251014T215620Z
LAST-MODIFIED:20251110T211832Z
UID:3178-1763820000-1763827200@craftsocialyorkshire.com
SUMMARY:Christmas Crafternoon
DESCRIPTION:Get into the festive spirit at our Christmas Lights Crafternoon! As part of our village Christmas Lights Switch-On\, kids can enjoy making their very own lantern craft to light up the evening. Each ticket also includes a deluxe hot chocolate with all the festive toppings. A magical way to celebrate the start of the Christmas season!
URL:https://craftsocialyorkshire.com/event/christmas-crafternoon/
LOCATION:The Green Room\, 52 The Grove Promenade\, Ilkley\, LS29 9PA\, United Kingdom
ATTACH;FMTTYPE=image/jpeg:https://craftsocialyorkshire.com/wp-content/uploads/2025/10/image0.jpeg
ORGANIZER;CN="Craft Social":MAILTO:craftsocialyorkshire@gmail.com
END:VEVENT
BEGIN:VEVENT
DTSTART;TZID=Europe/London:20251121T193000
DTEND;TZID=Europe/London:20251121T213000
DTSTAMP:20260421T124541
CREATED:20251014T215337Z
LAST-MODIFIED:20251014T215544Z
UID:3164-1763753400-1763760600@craftsocialyorkshire.com
SUMMARY:Wreath Making
DESCRIPTION:Get into the festive spirit with our Wreath Making Workshop. Enjoy a welcome glass of fizz as you create your very own seasonal wreath using all provided materials. The perfect way to kick off the Christmas season with creativity and good company.
URL:https://craftsocialyorkshire.com/event/wreath-making/
LOCATION:Ovino Lounge\, 49-51 High St\, Skipton\, BD23 1DH\, United Kingdom
ATTACH;FMTTYPE=image/jpeg:https://craftsocialyorkshire.com/wp-content/uploads/2025/10/a9170b8b-0b8a-48fb-a091-e0a89c5eb2a9.jpg
ORGANIZER;CN="Craft Social":MAILTO:craftsocialyorkshire@gmail.com
END:VEVENT
BEGIN:VEVENT
DTSTART;TZID=Europe/London:20251102T140000
DTEND;TZID=Europe/London:20251102T160000
DTSTAMP:20260421T124541
CREATED:20251014T214618Z
LAST-MODIFIED:20251023T124726Z
UID:3163-1762092000-1762099200@craftsocialyorkshire.com
SUMMARY:Cozy Crafternoon
DESCRIPTION:Join us for a fun and relaxing Cosy Kids’ Crafternoon! Each ticket includes a mosaic coaster craft for little makers to get creative with\, plus a deluxe hot chocolate topped with all the trimmings. A perfect way for kids to spend a cosy afternoon crafting and enjoying a treat!
URL:https://craftsocialyorkshire.com/event/cozy-afternoon/
LOCATION:The Green Room\, 52 The Grove Promenade\, Ilkley\, LS29 9PA\, United Kingdom
ATTACH;FMTTYPE=image/jpeg:https://craftsocialyorkshire.com/wp-content/uploads/2025/10/IMG_0652-scaled.jpg
ORGANIZER;CN="Craft Social":MAILTO:craftsocialyorkshire@gmail.com
END:VEVENT
BEGIN:VEVENT
DTSTART;TZID=Europe/London:20251017T193000
DTEND;TZID=Europe/London:20251017T213000
DTSTAMP:20260421T124541
CREATED:20250811T190717Z
LAST-MODIFIED:20250811T191456Z
UID:3030-1760729400-1760736600@craftsocialyorkshire.com
SUMMARY:Pottery Glazing and Candle Painting
DESCRIPTION:Ever wanted to try your hand at candle painting and pottery glazing? This relaxed and creative evening is the perfect place to start. Ideal for beginners\, our resident artist will guide you step-by-step through designing and painting your own beautiful candle\, and glazing a handcrafted ceramic candle dish using a selection of stunning speciality glazes and techniques. \nNo experience needed — just come ready to unwind\, get creative\, and leave with something uniquely yours. \nPlease note: The finished pieces will be ready to collect from the studio 1-2 weeks later \nFeel free to bring your own drinks along to enjoy while you create! We will supply all other materials for the workshop
URL:https://craftsocialyorkshire.com/event/pottery-glazing-and-candle-painting/
LOCATION:Puffin Pottery\, 2b Boroughgate\, Otley\, LS21 3AL\, United Kingdom
ATTACH;FMTTYPE=image/jpeg:https://craftsocialyorkshire.com/wp-content/uploads/2025/08/IMG_2616.jpg
ORGANIZER;CN="Craft Social":MAILTO:craftsocialyorkshire@gmail.com
END:VEVENT
BEGIN:VEVENT
DTSTART;TZID=Europe/London:20251012T150000
DTEND;TZID=Europe/London:20251012T160000
DTSTAMP:20260421T124541
CREATED:20250906T202953Z
LAST-MODIFIED:20250915T131408Z
UID:3073-1760281200-1760284800@craftsocialyorkshire.com
SUMMARY:Autumn Halloween Workshop
DESCRIPTION:Join us on 12th October at Outside the Box for a fun-filled kids Halloween workshop where children can craft Trick or Treating bags and Halloween decorations. Parents can relax in the cafe with 15% off hot drinks and cakes during the session. Let’s get crafty! \nPrice includes: \n\n2 x Crafts -Trick or Treating Bag & Halloween decoration\n1 x Snack\n1 x Drink\n\nPlease note\, this event is split into 2 separate sessions; 1.30-2.30 and 3-4. If you are booking tickets for this event\, please ensure that the correct session is selected. Any questions\, feel free to contact us.
URL:https://craftsocialyorkshire.com/event/autumn-halloween-workshop/
LOCATION:Outside the Box\, The Victorian Arcade\, Ilkley\, LS29 9DY\, United Kingdom
ATTACH;FMTTYPE=image/jpeg:https://craftsocialyorkshire.com/wp-content/uploads/2025/09/IMG_9245-scaled.jpg
ORGANIZER;CN="Craft Social":MAILTO:craftsocialyorkshire@gmail.com
END:VEVENT
BEGIN:VEVENT
DTSTART;TZID=Europe/London:20250802T193000
DTEND;TZID=Europe/London:20250802T213000
DTSTAMP:20260421T124541
CREATED:20250619T204643Z
LAST-MODIFIED:20250620T093018Z
UID:2966-1754163000-1754170200@craftsocialyorkshire.com
SUMMARY:Polymer Clay Jewellery Workshop
DESCRIPTION:Ever wanted to give jewellery making and designing a go? Well this evening event is the perfect place to start. Great for beginners\, our polymer experts will take you through step by step to create a beautiful piece of wearable art to take home. During this workshop you’ll be taught how to condition the polymer clay\, select complimentary colours\, marble them using gold leaf and make them into several gorgeous pairs of earrings. No fear if you don’t have your ears pierced we have other lovely options for you! \nIncluded in the fabulous evening: \n\n\n\nA welcome glass of fizz\nPolymer clay conditioning techniques\nMarbling with gold leaf\nMaking 3 different sized and shaped earrings\nInstructions on how to attach studs and earring backs\nSanding and finishing techniques\n\n\n\nPlease note: Earrings will be available for collection from Puffin Pottery one week after the event
URL:https://craftsocialyorkshire.com/event/polymer-clay-jewellery-workshop/
LOCATION:Puffin Pottery\, 2b Boroughgate\, Otley\, LS21 3AL\, United Kingdom
ATTACH;FMTTYPE=image/jpeg:https://craftsocialyorkshire.com/wp-content/uploads/2025/03/IMG_2222.jpg
ORGANIZER;CN="Craft Social":MAILTO:craftsocialyorkshire@gmail.com
END:VEVENT
BEGIN:VEVENT
DTSTART;TZID=Europe/London:20250724T193000
DTEND;TZID=Europe/London:20250724T213000
DTSTAMP:20260421T124541
CREATED:20250619T204621Z
LAST-MODIFIED:20250621T085114Z
UID:2961-1753385400-1753392600@craftsocialyorkshire.com
SUMMARY:Sip and Paint Workshop
DESCRIPTION:Sip and paint is amazing fun for everybody. Dive into this creative\, arty experience. Bring your friends or come alone. All our sip and paint experiences are super sociable and perfect for beginners. There’s no need to worry about your painting skills as you will be taken step by step through the painting process by our practicing craft social artist\, Rebecca Ritchie and fellow creative\, Sophie Howarth. For this event you will be working on a mixed media abstract floral piece using watercolours\, collage and line drawing. You will be taught all the techniques you need and will leave our sip and paint with a gorgeous piece of art you’ll be proud of\, a new set of skills and feeling inspired. \nIncluded in the fabulous evening: \n\n\n\nA welcome drink\nAll materials needed to create your artwork\nArtist tuition and guidance\n\n\n\nProsecco will be provided on arrival and the bar will then be open throughout the evening if you wish to purchase any more drinks
URL:https://craftsocialyorkshire.com/event/sip-and-paint-workshop/
LOCATION:The Green Room\, 52 The Grove Promenade\, Ilkley\, LS29 9PA\, United Kingdom
ATTACH;FMTTYPE=image/jpeg:https://craftsocialyorkshire.com/wp-content/uploads/2025/03/IMG_2073.jpg
ORGANIZER;CN="Craft Social":MAILTO:craftsocialyorkshire@gmail.com
END:VEVENT
END:VCALENDAR